BEGIN:VCALENDAR
VERSION:2.0
PRODID:-// - ECPv6.15.20//NONSGML v1.0//EN
CALSCALE:GREGORIAN
METHOD:PUBLISH
X-ORIGINAL-URL:https://www.phillystones.com
X-WR-CALDESC:Events for 
REFRESH-INTERVAL;VALUE=DURATION:PT1H
X-Robots-Tag:noindex
X-PUBLISHED-TTL:PT1H
BEGIN:VTIMEZONE
TZID:America/New_York
BEGIN:DAYLIGHT
TZOFFSETFROM:-0500
TZOFFSETTO:-0400
TZNAME:EDT
DTSTART:20210314T070000
END:DAYLIGHT
BEGIN:STANDARD
TZOFFSETFROM:-0400
TZOFFSETTO:-0500
TZNAME:EST
DTSTART:20211107T060000
END:STANDARD
BEGIN:DAYLIGHT
TZOFFSETFROM:-0500
TZOFFSETTO:-0400
TZNAME:EDT
DTSTART:20220313T070000
END:DAYLIGHT
BEGIN:STANDARD
TZOFFSETFROM:-0400
TZOFFSETTO:-0500
TZNAME:EST
DTSTART:20221106T060000
END:STANDARD
BEGIN:DAYLIGHT
TZOFFSETFROM:-0500
TZOFFSETTO:-0400
TZNAME:EDT
DTSTART:20230312T070000
END:DAYLIGHT
BEGIN:STANDARD
TZOFFSETFROM:-0400
TZOFFSETTO:-0500
TZNAME:EST
DTSTART:20231105T060000
END:STANDARD
END:VTIMEZONE
BEGIN:VEVENT
DTSTART;TZID=America/New_York:20221112T090000
DTEND;TZID=America/New_York:20221112T170000
DTSTAMP:20260423T164732
CREATED:20211119T195925Z
LAST-MODIFIED:20221016T224606Z
UID:2253-1668243600-1668272400@www.phillystones.com
SUMMARY:2022 Fall Member/Guest - TBD Location
DESCRIPTION:2022 Fall Member/Guest “King of the Hill Event” \n  \n\n			Currently Registered\n				Be the first!
URL:https://www.phillystones.com/event/2022-fall-member-guest-tbd-location/
LOCATION:East Goshen Park Stones Course\, 1661 Paoli Pike\, West Chester\, PA\, 19380\, United States
CATEGORIES:open stones
END:VEVENT
BEGIN:VEVENT
DTSTART;TZID=America/New_York:20220327T100000
DTEND;TZID=America/New_York:20220327T140000
DTSTAMP:20260423T164732
CREATED:20211117T224557Z
LAST-MODIFIED:20211117T224826Z
UID:2218-1648375200-1648389600@www.phillystones.com
SUMMARY:Open Stones- Intro Day
DESCRIPTION:FREE event to bring people out to check out the game as well as fine tuning practice before the season start. \n  \n\n			Currently Registered\n				Be the first!
URL:https://www.phillystones.com/event/open-stones-intro-day/
LOCATION:East Goshen Park Stones Course\, 1661 Paoli Pike\, West Chester\, PA\, 19380\, United States
CATEGORIES:open stones
END:VEVENT
END:VCALENDAR