BEGIN:VCALENDAR
VERSION:2.0
PRODID:-// - ECPv6.15.20//NONSGML v1.0//EN
CALSCALE:GREGORIAN
METHOD:PUBLISH
X-ORIGINAL-URL:https://www.phillystones.com
X-WR-CALDESC:Events for 
REFRESH-INTERVAL;VALUE=DURATION:PT1H
X-Robots-Tag:noindex
X-PUBLISHED-TTL:PT1H
BEGIN:VTIMEZONE
TZID:America/New_York
BEGIN:DAYLIGHT
TZOFFSETFROM:-0500
TZOFFSETTO:-0400
TZNAME:EDT
DTSTART:20170312T070000
END:DAYLIGHT
BEGIN:STANDARD
TZOFFSETFROM:-0400
TZOFFSETTO:-0500
TZNAME:EST
DTSTART:20171105T060000
END:STANDARD
BEGIN:DAYLIGHT
TZOFFSETFROM:-0500
TZOFFSETTO:-0400
TZNAME:EDT
DTSTART:20180311T070000
END:DAYLIGHT
BEGIN:STANDARD
TZOFFSETFROM:-0400
TZOFFSETTO:-0500
TZNAME:EST
DTSTART:20181104T060000
END:STANDARD
BEGIN:DAYLIGHT
TZOFFSETFROM:-0500
TZOFFSETTO:-0400
TZNAME:EDT
DTSTART:20190310T070000
END:DAYLIGHT
BEGIN:STANDARD
TZOFFSETFROM:-0400
TZOFFSETTO:-0500
TZNAME:EST
DTSTART:20191103T060000
END:STANDARD
BEGIN:DAYLIGHT
TZOFFSETFROM:-0500
TZOFFSETTO:-0400
TZNAME:EDT
DTSTART:20200308T070000
END:DAYLIGHT
BEGIN:STANDARD
TZOFFSETFROM:-0400
TZOFFSETTO:-0500
TZNAME:EST
DTSTART:20201101T060000
END:STANDARD
BEGIN:DAYLIGHT
TZOFFSETFROM:-0500
TZOFFSETTO:-0400
TZNAME:EDT
DTSTART:20210314T070000
END:DAYLIGHT
BEGIN:STANDARD
TZOFFSETFROM:-0400
TZOFFSETTO:-0500
TZNAME:EST
DTSTART:20211107T060000
END:STANDARD
BEGIN:DAYLIGHT
TZOFFSETFROM:-0500
TZOFFSETTO:-0400
TZNAME:EDT
DTSTART:20220313T070000
END:DAYLIGHT
BEGIN:STANDARD
TZOFFSETFROM:-0400
TZOFFSETTO:-0500
TZNAME:EST
DTSTART:20221106T060000
END:STANDARD
BEGIN:DAYLIGHT
TZOFFSETFROM:-0500
TZOFFSETTO:-0400
TZNAME:EDT
DTSTART:20230312T070000
END:DAYLIGHT
BEGIN:STANDARD
TZOFFSETFROM:-0400
TZOFFSETTO:-0500
TZNAME:EST
DTSTART:20231105T060000
END:STANDARD
END:VTIMEZONE
BEGIN:VEVENT
DTSTART;TZID=America/New_York:20221029T090000
DTEND;TZID=America/New_York:20221029T170000
DTSTAMP:20260423T120754
CREATED:20211119T195302Z
LAST-MODIFIED:20221016T224805Z
UID:2251-1667034000-1667062800@www.phillystones.com
SUMMARY:2022 PSL Tour Philly Championship- East Goshen
DESCRIPTION:The Grove at East Goshen for the Philly Championship. \nThis is an Invite Only Event-  Anyone who placed 1st or 2nd in a Tour event this season along with anyone ranked in the Top 15 on Official PSL Ranking. \nRegistered Teams: \n\n			Currently Registered\n				Be the first!
URL:https://www.phillystones.com/event/2022-psl-tour-philly-championship-east-goshen/
LOCATION:East Goshen Park Stones Course\, 1661 Paoli Pike\, West Chester\, PA\, 19380\, United States
CATEGORIES:tournament
END:VEVENT
BEGIN:VEVENT
DTSTART;TZID=America/New_York:20221016T100000
DTEND;TZID=America/New_York:20221016T143000
DTSTAMP:20260423T120754
CREATED:20211119T194513Z
LAST-MODIFIED:20220914T131619Z
UID:2249-1665914400-1665930600@www.phillystones.com
SUMMARY:2022 PSL Tour #12- Boxer's Trail Fairmount
DESCRIPTION:Final Regular Season Event- Boxer’s Trail 2v2 Standard Stones Event \nFree For Members- $7 per Player for Non-Members. \nPurchase your Entry fee Online.  https://www.phillystones.com/product/2022-psl-tour-event-entry-fee/ \nCurrently RegisteredScott Walker Bill Schneider Joshua Hughes Ryan Kinka
URL:https://www.phillystones.com/event/2022-psl-tour-12-boxers-trail-fairmount/
LOCATION:Stones Course at Boxer’s Trail in East Fairmount Park\, 3800 Mt Pleasant Dr\, Philadelphiua\, PA\, 19121\, United States
CATEGORIES:tournament
END:VEVENT
BEGIN:VEVENT
DTSTART;TZID=America/New_York:20221001T100000
DTEND;TZID=America/New_York:20221001T143000
DTSTAMP:20260423T120754
CREATED:20211119T194246Z
LAST-MODIFIED:20220914T131553Z
UID:2247-1664618400-1664634600@www.phillystones.com
SUMMARY:2022 PSL Tour #11- East Goshen Mono a Mono Singles Event
DESCRIPTION:The Grove at East Goshen for 1v1 Singles Stones Event \nFree For Members- $7 per Player for Non-Members. \nPurchase your Entry fee Online.  https://www.phillystones.com/product/2022-psl-tour-event-entry-fee/ \nCurrently RegisteredBill Schneider
URL:https://www.phillystones.com/event/2022-psl-tour-11-east-goshen-mono-a-mono-singles-event/
LOCATION:East Goshen Park Stones Course\, 1661 Paoli Pike\, West Chester\, PA\, 19380\, United States
CATEGORIES:tournament
END:VEVENT
BEGIN:VEVENT
DTSTART;TZID=America/New_York:20220918T100000
DTEND;TZID=America/New_York:20220918T143000
DTSTAMP:20260423T120754
CREATED:20211119T193809Z
LAST-MODIFIED:20220914T131450Z
UID:2245-1663495200-1663511400@www.phillystones.com
SUMMARY:2022 PSL Tour #10- Boxer's Trail- Fairmount Park
DESCRIPTION:Boxer’s Trail for 2v2 Standard Stones Event \nFree For Members- $7 per Player for Non-Members. \nPurchase your Entry fee Online.  https://www.phillystones.com/product/2022-psl-tour-event-entry-fee/ \nCurrently RegisteredJ.Y. Halpin Konrad Herman Luke Wilk Mike Kinka Ben Graham Joshua Hughes Scott Walker Sophie Chertock Oliver Herrine Harry Dudnick Alex Caldwell Brooks Bell Pete Young
URL:https://www.phillystones.com/event/2022-psl-tour-10-boxers-trail-fairmount-park/
LOCATION:Stones Course at Boxer’s Trail in East Fairmount Park\, 3800 Mt Pleasant Dr\, Philadelphiua\, PA\, 19121\, United States
CATEGORIES:tournament
END:VEVENT
BEGIN:VEVENT
DTSTART;TZID=America/New_York:20220828T100000
DTEND;TZID=America/New_York:20220828T143000
DTSTAMP:20260423T120754
CREATED:20211119T193452Z
LAST-MODIFIED:20211119T193452Z
UID:2243-1661680800-1661697000@www.phillystones.com
SUMMARY:2022 PSL Tour #9- Charlestown Match Play
DESCRIPTION:Charlestown for 2v2 Match Play Stones Event \nFree For Members- $7 per Player for Non-Members. \nPurchase your Entry fee Online.  https://www.phillystones.com/product/2022-psl-tour-event-entry-fee/ \n  \n\n			Currently Registered\n				Be the first!
URL:https://www.phillystones.com/event/2022-psl-tour-9-charlestown-match-play/
LOCATION:Charlestown Park Stones Course\, 100 Academic Way\, Phoenixville\, PA\, 19460\, United States
CATEGORIES:tournament
END:VEVENT
BEGIN:VEVENT
DTSTART;TZID=America/New_York:20220731T100000
DTEND;TZID=America/New_York:20220731T143000
DTSTAMP:20260423T120754
CREATED:20211117T232554Z
LAST-MODIFIED:20211117T232914Z
UID:2227-1659261600-1659277800@www.phillystones.com
SUMMARY:2022- PSL Tour #7- Boxer's Trail- Fairmount
DESCRIPTION:Boxer’s Trail for 2v2 Standard Stones Event \nFree For Members- $7 per Player for Non-Members. \nPurchase your Entry fee Online.  https://www.phillystones.com/product/2022-psl-tour-event-entry-fee/ \nCurrently RegisteredPete Young Scott Walker Tim McColgan Ben Graham Mark DAlfonso RYAN KINKA Joshua Hughes Lucas Wilk Dave Cox J.Y. Halpin Michael Flynn Alex Caldwell Brooks Bell
URL:https://www.phillystones.com/event/2022-psl-tour-7-fairmount-match-play-event/
LOCATION:Stones Course at Boxer’s Trail in East Fairmount Park\, 3800 Mt Pleasant Dr\, Philadelphiua\, PA\, 19121\, United States
CATEGORIES:tournament
END:VEVENT
BEGIN:VEVENT
DTSTART;TZID=America/New_York:20220710T100000
DTEND;TZID=America/New_York:20220710T140000
DTSTAMP:20260423T120754
CREATED:20211117T232330Z
LAST-MODIFIED:20211117T232752Z
UID:2225-1657447200-1657461600@www.phillystones.com
SUMMARY:2022 PSL Tour #6- Charlestown Mono a Mono- Singles Event
DESCRIPTION:Back to Grass for the First Singles Event of the Season- 1v1- 3-ball \nFree For Members- $7 per Player for Non-Members. \nPurchase your Entry fee Online.  https://www.phillystones.com/product/2022-psl-tour-event-entry-fee/ \nCurrently RegisteredTim McColgan Bill Schneider Harry Dudnick Joshua Hughes J.Y. Halpin Oliver Dudnick Luke Wilk Ryan Kinka
URL:https://www.phillystones.com/event/2022-psl-tour-6-charlestown-mono-a-mono-singles-event/
LOCATION:Charlestown Park Stones Course\, 100 Academic Way\, Phoenixville\, PA\, 19460\, United States
CATEGORIES:tournament
END:VEVENT
BEGIN:VEVENT
DTSTART;TZID=America/New_York:20220611T100000
DTEND;TZID=America/New_York:20220611T143000
DTSTAMP:20260423T120754
CREATED:20211117T231704Z
LAST-MODIFIED:20211117T233006Z
UID:2220-1654941600-1654957800@www.phillystones.com
SUMMARY:2022 PSL Tour #4- Boxer's Trail Fairmount- Match Play
DESCRIPTION:PSL Tour #4- Boxer’s Trail  2v2 Match Play Event \nFree For Members- $7 per Player for Non-Members. \nPurchase your Entry fee Online.  https://www.phillystones.com/product/2022-psl-tour-event-entry-fee/ \nCurrently RegisteredDarryl Thompson Harry Dudnick Joe Gioia Bill Schneider Ben Graham Alex Caldwell Josh Hughes Arlo Purcell Brad Raczynski Dhan Parker Scott Walker Luke Wilk Brooks Bell
URL:https://www.phillystones.com/event/2022-psl-tour-4-boxers-trail-fairmount/
LOCATION:Stones Course at Boxer’s Trail in East Fairmount Park\, 3800 Mt Pleasant Dr\, Philadelphiua\, PA\, 19121\, United States
CATEGORIES:tournament
END:VEVENT
BEGIN:VEVENT
DTSTART;TZID=America/New_York:20220522T100000
DTEND;TZID=America/New_York:20220522T150000
DTSTAMP:20260423T120754
CREATED:20211117T182751Z
LAST-MODIFIED:20220517T013302Z
UID:2214-1653213600-1653231600@www.phillystones.com
SUMMARY:2022 #2 Reschedule-  PSL Tour- East Goshen
DESCRIPTION:Member/Guest has been postponed in order to make up for the Rain out on Event #2.  We will stay at East Goshen – Standard Stones \n  \nCurrently RegisteredElla Walker Scott Walker RYAN Kinka Bill Schneider Pete Walker
URL:https://www.phillystones.com/event/2022-member-guest/
LOCATION:East Goshen Park Stones Course\, 1661 Paoli Pike\, West Chester\, PA\, 19380\, United States
CATEGORIES:tournament
END:VEVENT
BEGIN:VEVENT
DTSTART;TZID=America/New_York:20220514T100000
DTEND;TZID=America/New_York:20220514T143000
DTSTAMP:20260423T120754
CREATED:20211117T180936Z
LAST-MODIFIED:20220502T002208Z
UID:2212-1652522400-1652538600@www.phillystones.com
SUMMARY:2022 PSL Tour #3- Boxer's Trail- Fairmount Park
DESCRIPTION:Back to the Roots for the first event at Fairmount Park. \nFree For Members- $7 per Player for Non-Members. \nPurchase your Entry fee Online.  https://www.phillystones.com/product/2022-psl-tour-event-entry-fee/ \nCurrently RegisteredLuke Wilk Anne Reese Jase Brak Josh Hughes Ryan Kinka Justin Case Alex Caldwell Brooks Bell Bill Schneider
URL:https://www.phillystones.com/event/2022-psl-tour-3/
LOCATION:Stones Course at Boxer’s Trail in East Fairmount Park\, 3800 Mt Pleasant Dr\, Philadelphiua\, PA\, 19121\, United States
CATEGORIES:tournament
END:VEVENT
BEGIN:VEVENT
DTSTART;TZID=America/New_York:20220423T100000
DTEND;TZID=America/New_York:20220423T143000
DTSTAMP:20260423T120754
CREATED:20211117T180229Z
LAST-MODIFIED:20220422T204155Z
UID:2209-1650708000-1650724200@www.phillystones.com
SUMMARY:2022 PSL Tour #2- Charlestown Park- POSTPONED
DESCRIPTION:EVENT HAS BEEN POSTPONED. \nEvent #2-  Charlestown Park\, Phoenixville \nFree For Members- $7 per Player for Non-Members. \nPurchase your Entry fee Online.  https://www.phillystones.com/product/2022-psl-tour-event-entry-fee/ \nCurrently RegisteredTyler Kinka Ryan Kinka Bill Schneider Pete Walker
URL:https://www.phillystones.com/event/2022-psl-tour-2/
LOCATION:Charlestown Park Stones Course\, 100 Academic Way\, Phoenixville\, PA\, 19460\, United States
CATEGORIES:tournament
END:VEVENT
BEGIN:VEVENT
DTSTART;TZID=America/New_York:20220410T100000
DTEND;TZID=America/New_York:20220410T143000
DTSTAMP:20260423T120754
CREATED:20211117T173839Z
LAST-MODIFIED:20211117T224125Z
UID:2205-1649584800-1649601000@www.phillystones.com
SUMMARY:2022 PSL Tour #1-  East Goshen
DESCRIPTION:The 2022 PSL Tour Season kicks off on April 9th at The Grove at East Goshen Park. \nFree For Members- $7 per Player for Non-Members. \nPurchase your Entry fee Online.  https://www.phillystones.com/product/2022-psl-tour-event-entry-fee/ \nCurrently RegisteredJ. Max Ullman Arlo Purcell Justin Case Brooks Bell Pete Walker Ryan Kinka Oliver Herrine Luke Wilk Jase Brak Joshua Hughes Harry Dudnick
URL:https://www.phillystones.com/event/2022-psl-tour-1-east-goshen/
LOCATION:East Goshen Park Stones Course\, 1661 Paoli Pike\, West Chester\, PA\, 19380\, United States
CATEGORIES:tournament
END:VEVENT
BEGIN:VEVENT
DTSTART;TZID=America/New_York:20210801T110000
DTEND;TZID=America/New_York:20210801T153000
DTSTAMP:20260423T120754
CREATED:20210722T185236Z
LAST-MODIFIED:20210722T185338Z
UID:1415-1627815600-1627831800@www.phillystones.com
SUMMARY:2021 #3- The Grove and East Goshen
DESCRIPTION:
URL:https://www.phillystones.com/event/2021-3-the-grove-and-east-goshen/
LOCATION:East Goshen Park Stones Course\, 1661 Paoli Pike\, West Chester\, PA\, 19380\, United States
CATEGORIES:tournament
END:VEVENT
BEGIN:VEVENT
DTSTART;TZID=America/New_York:20181027T090000
DTEND;TZID=America/New_York:20181027T170000
DTSTAMP:20260423T120754
CREATED:20170421T035821Z
LAST-MODIFIED:20180220T183652Z
UID:1097-1540630800-1540659600@www.phillystones.com
SUMMARY:3rd Annual Evolve IP Philly Stones Championship
DESCRIPTION:This one-day elimination tournament will bring together the best players in the Philly area and beyond\, as well as newcomers looking to find their place in the Philly Stones circuit. Food and non-alcoholic beverages will be available for purchase. Winners  and runners up receive invitations to the Stones World Championships at Southern Tier Brewery in Lakewood\, NY
URL:https://www.phillystones.com/event/3rd-annual-evolve-ip-philly-open-stones-tournament/
LOCATION:Charlestown Park Stones Course\, 100 Academic Way\, Phoenixville\, PA\, 19460\, United States
CATEGORIES:tournament
END:VEVENT
BEGIN:VEVENT
DTSTART;TZID=America/New_York:20181013T090000
DTEND;TZID=America/New_York:20181013T130000
DTSTAMP:20260423T120754
CREATED:20170606T015154Z
LAST-MODIFIED:20180220T185536Z
UID:1220-1539421200-1539435600@www.phillystones.com
SUMMARY:East Goshen Park Stones Tournament - October 13\, 2018
DESCRIPTION:This tournament will follow a pool play format with 8 teams. Tournament champions get their next tournament for free and receive an invite to the Evolve IP Philly Invitational in October.
URL:https://www.phillystones.com/event/east-goshen-park-stones-tournament-october-13-2018-2/
LOCATION:East Goshen Park Stones Course\, 1661 Paoli Pike\, West Chester\, PA\, 19380\, United States
CATEGORIES:tournament
END:VEVENT
BEGIN:VEVENT
DTSTART;TZID=America/New_York:20180922T090000
DTEND;TZID=America/New_York:20180922T130000
DTSTAMP:20260423T120754
CREATED:20170420T183559Z
LAST-MODIFIED:20180220T185428Z
UID:1064-1537606800-1537621200@www.phillystones.com
SUMMARY:Fairmount Park Stones Tournament - September 22\, 2018
DESCRIPTION:This tournament will follow a pool play format with 8 teams. Tournament champions get their next tournament for free and receive an invite to the Evolve IP Philly Invitational in October.
URL:https://www.phillystones.com/event/fairmount-park-stones-tournament-september-22-2018/
LOCATION:Stones Course at Boxer’s Trail in East Fairmount Park\, 3800 Mt Pleasant Dr\, Philadelphiua\, PA\, 19121\, United States
CATEGORIES:tournament
END:VEVENT
BEGIN:VEVENT
DTSTART;TZID=America/New_York:20180908T090000
DTEND;TZID=America/New_York:20180908T130000
DTSTAMP:20260423T120754
CREATED:20170421T035212Z
LAST-MODIFIED:20180701T162105Z
UID:1093-1536397200-1536411600@www.phillystones.com
SUMMARY:East Goshen Park Stones Tournament - September 8\, 2018
DESCRIPTION:This tournament will follow a pool play format with 8 teams. Tournament champions get their next tournament for free and receive an invite to the Evolve IP Philly Invitational in October.
URL:https://www.phillystones.com/event/east-goshen-park-stones-tournament-september-8-2018/
LOCATION:East Goshen Park Stones Course\, 1661 Paoli Pike\, West Chester\, PA\, 19380\, United States
CATEGORIES:tournament
END:VEVENT
BEGIN:VEVENT
DTSTART;TZID=America/New_York:20180819T090000
DTEND;TZID=America/New_York:20180819T130000
DTSTAMP:20260423T120754
CREATED:20170606T130919Z
LAST-MODIFIED:20180813T191617Z
UID:1228-1534669200-1534683600@www.phillystones.com
SUMMARY:Charlestown Park Stones Tournament - August 19\, 2018
DESCRIPTION:This tournament will follow a pool play format with 8 teams. Tournament champions get their next tournament for free and receive an invite to the Evolve IP Philly Invitational in October.
URL:https://www.phillystones.com/event/charlestown-park-stones-tournament-august-18-2018/
LOCATION:Charlestown Park Stones Course\, 100 Academic Way\, Phoenixville\, PA\, 19460\, United States
CATEGORIES:tournament
END:VEVENT
BEGIN:VEVENT
DTSTART;TZID=America/New_York:20180805T090000
DTEND;TZID=America/New_York:20180805T130000
DTSTAMP:20260423T120754
CREATED:20170606T015406Z
LAST-MODIFIED:20180716T202739Z
UID:1222-1533459600-1533474000@www.phillystones.com
SUMMARY:Fairmount Park Stones Tournament - August 5th\, 2018
DESCRIPTION:This tournament will follow a pool play format with 8 teams. Tournament champions get their next tournament for free and receive an invite to the Evolve IP Philly Invitational in October.
URL:https://www.phillystones.com/event/fairmount-park-stones-tournament-august-5-2018/
LOCATION:Stones Course at Boxer’s Trail in East Fairmount Park\, 3800 Mt Pleasant Dr\, Philadelphiua\, PA\, 19121\, United States
CATEGORIES:tournament
END:VEVENT
BEGIN:VEVENT
DTSTART;TZID=America/New_York:20180715T090000
DTEND;TZID=America/New_York:20180715T130000
DTSTAMP:20260423T120754
CREATED:20170421T035334Z
LAST-MODIFIED:20180707T144041Z
UID:1095-1531645200-1531659600@www.phillystones.com
SUMMARY:East Goshen Park Stones Tournament - July 15\, 2018
DESCRIPTION:This tournament will follow a pool play format with 8 teams. Tournament champions get their next tournament for free and receive an invite to the Evolve IP Philly Invitational in October.
URL:https://www.phillystones.com/event/east-goshen-park-stones-tournament-july-15-2018/
LOCATION:East Goshen Park Stones Course\, 1661 Paoli Pike\, West Chester\, PA\, 19380\, United States
CATEGORIES:tournament
END:VEVENT
BEGIN:VEVENT
DTSTART;TZID=America/New_York:20180609T090000
DTEND;TZID=America/New_York:20180609T130000
DTSTAMP:20260423T120754
CREATED:20170606T131030Z
LAST-MODIFIED:20180220T184649Z
UID:1230-1528534800-1528549200@www.phillystones.com
SUMMARY:Charlestown Park Stones Tournament - June 9\, 2018
DESCRIPTION:This tournament will follow a pool play format with 8 teams. Tournament champions get their next tournament for free and receive an invite to the Evolve IP Philly Invitational in October.
URL:https://www.phillystones.com/event/charlestown-park-stones-tournament-june-9-2018/
LOCATION:Charlestown Park Stones Course\, 100 Academic Way\, Phoenixville\, PA\, 19460\, United States
CATEGORIES:tournament
END:VEVENT
BEGIN:VEVENT
DTSTART;TZID=America/New_York:20180519T090000
DTEND;TZID=America/New_York:20180519T130000
DTSTAMP:20260423T120754
CREATED:20170606T015555Z
LAST-MODIFIED:20180220T183830Z
UID:1224-1526720400-1526734800@www.phillystones.com
SUMMARY:Fairmount Park Stones Tournament - May 19\, 2018
DESCRIPTION:This tournament will follow a pool play format with 8 teams. Tournament champions get their next tournament for free and receive an invite to the Evolve IP Philly Invitational in October.
URL:https://www.phillystones.com/event/fairmount-park-stones-tournament-may-19-2018/
LOCATION:Stones Course at Boxer’s Trail in East Fairmount Park\, 3800 Mt Pleasant Dr\, Philadelphiua\, PA\, 19121\, United States
CATEGORIES:tournament
END:VEVENT
BEGIN:VEVENT
DTSTART;TZID=America/New_York:20180428T090000
DTEND;TZID=America/New_York:20180428T160000
DTSTAMP:20260423T120754
CREATED:20170421T035035Z
LAST-MODIFIED:20180424T002847Z
UID:1089-1524906000-1524931200@www.phillystones.com
SUMMARY:East Goshen Park Stones Tournament - April 28\, 2018
DESCRIPTION:This tournament will follow a pool play format with either 8 or 16 teams.
URL:https://www.phillystones.com/event/east-goshen-park-stones-tournament-april-28-2018/
LOCATION:East Goshen Park Stones Course\, 1661 Paoli Pike\, West Chester\, PA\, 19380\, United States
CATEGORIES:tournament
END:VEVENT
BEGIN:VEVENT
DTSTART;TZID=America/New_York:20180407T090000
DTEND;TZID=America/New_York:20180407T160000
DTSTAMP:20260423T120754
CREATED:20161003T014907Z
LAST-MODIFIED:20180220T184740Z
UID:980-1523091600-1523116800@www.phillystones.com
SUMMARY:Member/Guest Stones Tournament - Charlestown Park
DESCRIPTION:Event details: \nStarts 9am sharp April 7. \n16 Team Limit\, first come first serve. \nTeams will consist of 1 PSL Member and a Guest. \nGuests must meet the following: \n-Not be a member of PSL \n-Has not played in current Ranking event (2014-present)
URL:https://www.phillystones.com/event/member-guest-stones-tournament-charlestown/
LOCATION:Charlestown Park Stones Course\, 100 Academic Way\, Phoenixville\, PA\, 19460\, United States
CATEGORIES:tournament
END:VEVENT
END:VCALENDAR